BEGIN:VCALENDAR
VERSION:2.0
PRODID:-//eventon.com NONSGML v1.0//EN
CALSCALE:GREGORIAN
METHOD:PUBLISH
BEGIN:VEVENT
UID:69e736cd23cc0
DTSTAMP:20260421T083525Z
DTSTART:20230925T010000Z
DTEND:20230925T040000Z
LOCATION:Maple Knoll Village 11100 Springfield Pike\,  Cincinnati\,  Ohio 45246
SUMMARY:WMKV Big Band Dance
DESCRIPTION:Get into the swing of things at the WMKV Big Band Dance! Septem
 ber 24 from 2:00pm – 5:00pm The Maple Knoll Auditorium11100 Springfield P
 ikeCincinnati\,  OH 45246 Listen to great big band music\,  get out on the 
 dance floor and show your stuff! Tickets are $11 per person and include sna
 cks[..]\nhttps://mapleknoll.org/events/wmkv-big-band-dance-copy-copy/
URL:https://mapleknoll.org/events/wmkv-big-band-dance-copy-copy/
END:VEVENT
END:VCALENDAR