BEGIN:VCALENDAR
VERSION:2.0
PRODID:-//eventon.com NONSGML v1.0//EN
CALSCALE:GREGORIAN
METHOD:PUBLISH
BEGIN:VEVENT
UID:69e5fa5d6818a
DTSTAMP:20260420T100517Z
DTSTART:20230529T010000Z
DTEND:20230529T040000Z
LOCATION:Maple Knoll Village 11100 Springfield Pike\,  Cincinnati\,  Ohio 45246
SUMMARY:WMKV Big Band Dance
DESCRIPTION:Get into the swing of things at the WMKV Big Band Dance! May 28
  from 2:00pm – 5:00pm The Maple Knoll Auditorium11100 Springfield PikeCin
 cinnati\,  OH 45246 Listen to great big band music\,  get out on the dance 
 floor and show your stuff! Tickets are $11 per person and include snacks[..
 ]\nhttps://mapleknoll.org/events/wmkv-big-band-dance-9/
URL:https://mapleknoll.org/events/wmkv-big-band-dance-9/
END:VEVENT
END:VCALENDAR